BEGIN:VCALENDAR
VERSION:2.0
PRODID:-//Northern Heritage Network - ECPv6.15.20//NONSGML v1.0//EN
CALSCALE:GREGORIAN
METHOD:PUBLISH
X-ORIGINAL-URL:https://northernheritage.org
X-WR-CALDESC:Events for Northern Heritage Network
REFRESH-INTERVAL;VALUE=DURATION:PT1H
X-Robots-Tag:noindex
X-PUBLISHED-TTL:PT1H
BEGIN:VTIMEZONE
TZID:Europe/London
BEGIN:DAYLIGHT
TZOFFSETFROM:+0000
TZOFFSETTO:+0100
TZNAME:BST
DTSTART:20210328T010000
END:DAYLIGHT
BEGIN:STANDARD
TZOFFSETFROM:+0100
TZOFFSETTO:+0000
TZNAME:GMT
DTSTART:20211031T010000
END:STANDARD
BEGIN:DAYLIGHT
TZOFFSETFROM:+0000
TZOFFSETTO:+0100
TZNAME:BST
DTSTART:20220327T010000
END:DAYLIGHT
BEGIN:STANDARD
TZOFFSETFROM:+0100
TZOFFSETTO:+0000
TZNAME:GMT
DTSTART:20221030T010000
END:STANDARD
BEGIN:DAYLIGHT
TZOFFSETFROM:+0000
TZOFFSETTO:+0100
TZNAME:BST
DTSTART:20230326T010000
END:DAYLIGHT
BEGIN:STANDARD
TZOFFSETFROM:+0100
TZOFFSETTO:+0000
TZNAME:GMT
DTSTART:20231029T010000
END:STANDARD
END:VTIMEZONE
BEGIN:VEVENT
DTSTART;TZID=Europe/London:20221118T180000
DTEND;TZID=Europe/London:20221118T180000
DTSTAMP:20260421T174840
CREATED:20221005T130240Z
LAST-MODIFIED:20221010T111117Z
UID:2679-1668794400-1668794400@northernheritage.org
SUMMARY:International Seminar: Picasso and Applied Arts
DESCRIPTION:International Seminar: Picasso and Applied Arts\n17 and 18 November 2022 | MPM Auditorium\, Malaga\, Spain\n  \nIf you are curious how to digitally research and virtually reconstruct Picasso’s sculptures in landscape/urban surroundings in 3D\, join us during the International Seminar: Picasso and Applied Arts in Malaga. \nIs the classic debate between so-called high and low culture still relevant? Under what terms are collaborations between artists and artisans for the production of serialised objects carried out? To what extent are these exclusive works of art conceived to be used? \nBy addressing generic issues and specific cases\, the aim of this seminar is to provide a more precise understanding of Pablo Picasso’s interest in serialised works and to address problems arising from the relationship between the conventional art of the museum and the applied arts today. \nSeminar organised in collaboration with the Fundación General de la Universidad de Málaga\, led by Pepe Karmel\, professor of Art History at New York University.
URL:https://northernheritage.org/event/international-seminar-picasso-and-applied-arts/
LOCATION:Museo Picasso Málaga\, San Agustin st. 8 Buenavista Palace\, Malaga\, 29015
CATEGORIES:Invitation
ATTACH;FMTTYPE=image/jpeg:https://northernheritage.org/wp-content/uploads/2022/10/operario_soldando_la_femme_a_la_clef_la_tauliere_delante_de_picasso_en_la_californie_cannes_1957._fotografia_de_david_dougla.jpg
END:VEVENT
END:VCALENDAR