BEGIN:VCALENDAR
VERSION:2.0
PRODID:-//Northern Heritage Network - ECPv6.15.20//NONSGML v1.0//EN
CALSCALE:GREGORIAN
METHOD:PUBLISH
X-ORIGINAL-URL:https://northernheritage.org
X-WR-CALDESC:Events for Northern Heritage Network
REFRESH-INTERVAL;VALUE=DURATION:PT1H
X-Robots-Tag:noindex
X-PUBLISHED-TTL:PT1H
BEGIN:VTIMEZONE
TZID:Europe/London
BEGIN:DAYLIGHT
TZOFFSETFROM:+0000
TZOFFSETTO:+0100
TZNAME:BST
DTSTART:20210328T010000
END:DAYLIGHT
BEGIN:STANDARD
TZOFFSETFROM:+0100
TZOFFSETTO:+0000
TZNAME:GMT
DTSTART:20211031T010000
END:STANDARD
BEGIN:DAYLIGHT
TZOFFSETFROM:+0000
TZOFFSETTO:+0100
TZNAME:BST
DTSTART:20220327T010000
END:DAYLIGHT
BEGIN:STANDARD
TZOFFSETFROM:+0100
TZOFFSETTO:+0000
TZNAME:GMT
DTSTART:20221030T010000
END:STANDARD
BEGIN:DAYLIGHT
TZOFFSETFROM:+0000
TZOFFSETTO:+0100
TZNAME:BST
DTSTART:20230326T010000
END:DAYLIGHT
BEGIN:STANDARD
TZOFFSETFROM:+0100
TZOFFSETTO:+0000
TZNAME:GMT
DTSTART:20231029T010000
END:STANDARD
END:VTIMEZONE
BEGIN:VEVENT
DTSTART;VALUE=DATE:20221008
DTEND;VALUE=DATE:20221009
DTSTAMP:20260421T191630
CREATED:20221008T105839Z
LAST-MODIFIED:20221008T105937Z
UID:3034-1665187200-1665273599@northernheritage.org
SUMMARY:Highland Archaeology Festival
DESCRIPTION:Join us to Celebrate Highland Archaeology\, History and Heritage\nThe festival is provided by the Highland Council and runs over 3 weeks each late September/October to celebrate the heritage of the Highlands from earliest settlers to modern times\, below ground and above. Whether you are a seasoned archaeologist or a complete beginner\, the festival will let you explore an amazing range of places and collections.  There’s something to suit everyone and many of the events are free! \n  \nRecent Archaeological Discoveries and Research Conference\n \nThe annual conference highlights recent work on archaeology and heritage of the Highlands\, and allows you to browse displays from local groups and organisations. \nHighland Council Chamber\, Council Headquarters\, Glenurquhart Road\, Inverness\n8th Oct 2022 \nProgramme\nSee below\, or in the Events Calendar \nDisplays and Poster Sessions \nThis year we again have an extended lunch break and slot at the end to allow time for poster sessions at some of the many displays (details will be provided on registration). These allow groups to briefly showcase projects they have been involved in. Displays are offered by museums\, heritage groups\, archaeological units and some national organistions\, providing a chance to meet and chat with people involved in Highland heritage. \nBooking a Place\nConference places must be booked in advance. Cost £25 or £15 for full-time students\, includes admission and tea/coffee.  Bookings and payments preferred by Eventbrite. For those who don’t use the internet\, payment can be sent by cheque. A booking form is included in the HAF Listing 2022 available from the Document Library in the 2022 folder on the website. \nProgramme (timings to be confirmed) \nChair: \n9:00-9:30                  Registration / TEAS and COFFEES \n9:30-9:35am            Welcome from Kirsty Cameron\, Highland Council Historic Environment Team \n9:35-10:00am          An HER update and a Last Word on Hut Circles in Wester Ross and Skye  –  Ian Scrivener-Lindley (HC HER officer) and Anna Welti \n10:00-10:25am        Excavating a Pictish (and earlier) Barrow Cemetery at Tarradale – Eric Grant \n10:25-10:50am        Archaeological Discoveries at Dalmore\, Alness – Peta Glew\, AOC Archaeology \n10:50-11:15am        In Search of Lost Inverlael – Lachlan McKeggie\, Highland Archaeology Services \n11:15-11:45am       TEAS AND COFFEES \n11:45am-12:10pm  Stones\, Bricks and Boats: Results of the SCAPE surveys from Inverness to Culbin Sands – Anne Coombs\, NoSAS \n12:10-12:35pm       Highland Rock Art – Alan Thompson\, NoSAS \n12:35-1:00pm          Rebuilding Brora’s Salt Making Heritage – Jaquie Aitken and Penny Paterson\, Clyne Heritage Society \n1:00-2:15pm            LUNCH / Poster sessions \n2:15-2:40pm            The Search for a New Highland Architecture – Calum Maclean\, MAAC Studio Ltd \n2:40-3:05pm            Highland Hospitals Through the Ages – Jim and Steve Leslie\, History of Highland Hospitals Project \n3:05-3:30pm            Community Heritage Facilitation and  Learning at Ardross and Kirkhill– Susan Kruse\, ARCH \n3:30-4:00pm            Closing Remarks and Discussion \n4:00-5:00                  Poster Sessions
URL:https://northernheritage.org/event/highland-archaeology-festival/
CATEGORIES:Invitation
ATTACH;FMTTYPE=image/jpeg:https://northernheritage.org/wp-content/uploads/2022/10/large-logo-white-on-blue.jpg
END:VEVENT
END:VCALENDAR